BEGIN:VCALENDAR
VERSION:2.0
PRODID:-//Oskarshamns Folkhögskola - ECPv6.15.20//NONSGML v1.0//EN
CALSCALE:GREGORIAN
METHOD:PUBLISH
X-ORIGINAL-URL:https://oskarshamnsfolkhogskola.se
X-WR-CALDESC:Händelser för Oskarshamns Folkhögskola
REFRESH-INTERVAL;VALUE=DURATION:PT1H
X-Robots-Tag:noindex
X-PUBLISHED-TTL:PT1H
BEGIN:VTIMEZONE
TZID:Europe/Stockholm
BEGIN:DAYLIGHT
TZOFFSETFROM:+0100
TZOFFSETTO:+0200
TZNAME:CEST
DTSTART:20250330T010000
END:DAYLIGHT
BEGIN:STANDARD
TZOFFSETFROM:+0200
TZOFFSETTO:+0100
TZNAME:CET
DTSTART:20251026T010000
END:STANDARD
BEGIN:DAYLIGHT
TZOFFSETFROM:+0100
TZOFFSETTO:+0200
TZNAME:CEST
DTSTART:20260329T010000
END:DAYLIGHT
BEGIN:STANDARD
TZOFFSETFROM:+0200
TZOFFSETTO:+0100
TZNAME:CET
DTSTART:20261025T010000
END:STANDARD
BEGIN:DAYLIGHT
TZOFFSETFROM:+0100
TZOFFSETTO:+0200
TZNAME:CEST
DTSTART:20270328T010000
END:DAYLIGHT
BEGIN:STANDARD
TZOFFSETFROM:+0200
TZOFFSETTO:+0100
TZNAME:CET
DTSTART:20271031T010000
END:STANDARD
END:VTIMEZONE
BEGIN:VEVENT
DTSTART;TZID=Europe/Stockholm:20260504T190000
DTEND;TZID=Europe/Stockholm:20260504T203000
DTSTAMP:20260425T152430
CREATED:20260424T085447Z
LAST-MODIFIED:20260424T085447Z
UID:7571-1777921200-1777926600@oskarshamnsfolkhogskola.se
SUMMARY:Tuppen Jazzfestival 4 maj
DESCRIPTION:Jazzlinjen och jazzkören bjuder på fullspäckat program! 4 och 5 maj klockan 19:00 i C10. \n \n 
URL:https://oskarshamnsfolkhogskola.se/event/tuppen-jazzfestival-4-maj/
LOCATION:C10\, Ceciliagården
CATEGORIES:Konserter
END:VEVENT
BEGIN:VEVENT
DTSTART;TZID=Europe/Stockholm:20260505T190000
DTEND;TZID=Europe/Stockholm:20260505T203000
DTSTAMP:20260425T152430
CREATED:20260424T085634Z
LAST-MODIFIED:20260424T085634Z
UID:7574-1778007600-1778013000@oskarshamnsfolkhogskola.se
SUMMARY:Tuppen Jazzfestival 5 maj
DESCRIPTION:Jazzlinjen och jazzkören bjuder på fullspäckat program! 4 och 5 maj klockan 19:00 i C10.
URL:https://oskarshamnsfolkhogskola.se/event/tuppen-jazzfestival-5-maj/
LOCATION:C10\, Ceciliagården
CATEGORIES:Konserter
END:VEVENT
BEGIN:VEVENT
DTSTART;TZID=Europe/Stockholm:20260512T190000
DTEND;TZID=Europe/Stockholm:20260512T200000
DTSTAMP:20260425T152430
CREATED:20260424T085210Z
LAST-MODIFIED:20260424T085210Z
UID:7568-1778612400-1778616000@oskarshamnsfolkhogskola.se
SUMMARY:Gott & blandat
DESCRIPTION:Konsert med genrebreda linjen på Oskarshamns folkhögskola!
URL:https://oskarshamnsfolkhogskola.se/event/gott-blandat/
LOCATION:Ceciliakapellet
CATEGORIES:Konserter
END:VEVENT
END:VCALENDAR